BEGIN:VCALENDAR
VERSION:2.0
PRODID:-//VIVEPELLUHUE - ECPv6.15.13//NONSGML v1.0//EN
CALSCALE:GREGORIAN
METHOD:PUBLISH
X-WR-CALNAME:VIVEPELLUHUE
X-ORIGINAL-URL:https://vivepelluhue.cl
X-WR-CALDESC:Eventos para VIVEPELLUHUE
REFRESH-INTERVAL;VALUE=DURATION:PT1H
X-Robots-Tag:noindex
X-PUBLISHED-TTL:PT1H
BEGIN:VTIMEZONE
TZID:America/Santiago
BEGIN:STANDARD
TZOFFSETFROM:-0300
TZOFFSETTO:-0400
TZNAME:-04
DTSTART:20240407T030000
END:STANDARD
BEGIN:DAYLIGHT
TZOFFSETFROM:-0400
TZOFFSETTO:-0300
TZNAME:-03
DTSTART:20240908T040000
END:DAYLIGHT
BEGIN:STANDARD
TZOFFSETFROM:-0300
TZOFFSETTO:-0400
TZNAME:-04
DTSTART:20250406T030000
END:STANDARD
BEGIN:DAYLIGHT
TZOFFSETFROM:-0400
TZOFFSETTO:-0300
TZNAME:-03
DTSTART:20250907T040000
END:DAYLIGHT
BEGIN:STANDARD
TZOFFSETFROM:-0300
TZOFFSETTO:-0400
TZNAME:-04
DTSTART:20260405T030000
END:STANDARD
BEGIN:DAYLIGHT
TZOFFSETFROM:-0400
TZOFFSETTO:-0300
TZNAME:-03
DTSTART:20260906T040000
END:DAYLIGHT
END:VTIMEZONE
BEGIN:VEVENT
DTSTART;TZID=America/Santiago:20251031T140000
DTEND;TZID=America/Santiago:20251102T190000
DTSTAMP:20260421T101651
CREATED:20251024T145927Z
LAST-MODIFIED:20251028T115658Z
UID:10000010-1761919200-1762110000@vivepelluhue.cl
SUMMARY:Travesuras con sabor a tradición
DESCRIPTION:La Costanera de Curanipe se prepara para vivir un fin de semana largo lleno de música\, tradiciones y sabores locales con el evento “Nuestras Raíces y Nuestra Gente: Travesuras con sabor a tradición”. \nLa fiesta contará con una destacada parrilla de artistas; Los Pincheiras del Sur de Jhon Rosales\, A los 4 Vientos y Los Tigres de Santa Clara\, quienes pondrán el ritmo y la alegría en el escenario principal🎤. \n📅 Desde el viernes 31 de octubre al domingo 2 de noviembre\, vecinos y visitantes podrán disfrutar de: \n🎭 La divertida Fiesta de Miedo\, con premiación al mejor disfraz. \n🎵 Una jornada llena de canto popular y tradiciones. \n🍲 Exquisitos platos típicos y una feria de artesanía local. \n📍 Costanera de Curanipe\n🕐 Desde las 13:00 hrs. \n✨ ¡Un panorama imperdible para disfrutar en familia y celebrar nuestras raíces con música\, cultura y sabor!
URL:https://vivepelluhue.cl/evento/travesuras-con-sabor-a-tradicion/
LOCATION:Costado Pueblo Artesanal Curanipe\, Chile
ATTACH;FMTTYPE=image/png:https://vivepelluhue.cl/wp-content/uploads/2025/10/Captura-de-pantalla-2025-10-24-114604.png
END:VEVENT
END:VCALENDAR