BEGIN:VCALENDAR
VERSION:2.0
PRODID:-//VIVEPELLUHUE - ECPv6.15.13//NONSGML v1.0//EN
CALSCALE:GREGORIAN
METHOD:PUBLISH
X-WR-CALNAME:VIVEPELLUHUE
X-ORIGINAL-URL:https://vivepelluhue.cl
X-WR-CALDESC:Eventos para VIVEPELLUHUE
REFRESH-INTERVAL;VALUE=DURATION:PT1H
X-Robots-Tag:noindex
X-PUBLISHED-TTL:PT1H
BEGIN:VTIMEZONE
TZID:America/Santiago
BEGIN:STANDARD
TZOFFSETFROM:-0300
TZOFFSETTO:-0400
TZNAME:-04
DTSTART:20240407T030000
END:STANDARD
BEGIN:DAYLIGHT
TZOFFSETFROM:-0400
TZOFFSETTO:-0300
TZNAME:-03
DTSTART:20240908T040000
END:DAYLIGHT
BEGIN:STANDARD
TZOFFSETFROM:-0300
TZOFFSETTO:-0400
TZNAME:-04
DTSTART:20250406T030000
END:STANDARD
BEGIN:DAYLIGHT
TZOFFSETFROM:-0400
TZOFFSETTO:-0300
TZNAME:-03
DTSTART:20250907T040000
END:DAYLIGHT
BEGIN:STANDARD
TZOFFSETFROM:-0300
TZOFFSETTO:-0400
TZNAME:-04
DTSTART:20260405T030000
END:STANDARD
BEGIN:DAYLIGHT
TZOFFSETFROM:-0400
TZOFFSETTO:-0300
TZNAME:-03
DTSTART:20260906T040000
END:DAYLIGHT
END:VTIMEZONE
BEGIN:VEVENT
DTSTART;TZID=America/Santiago:20250621T100000
DTEND;TZID=America/Santiago:20250622T180000
DTSTAMP:20260421T112759
CREATED:20250618T134303Z
LAST-MODIFIED:20250618T141203Z
UID:10000007-1750500000-1750615200@vivepelluhue.cl
SUMMARY:FERIA COPAS Y SABORES
DESCRIPTION:ARTISTAS \nSABADO 21 \n-CANTANTE LOCAL Y SOCIA DE ACITUR CAROLINA GARCIA \n-TRIBUTO A LOS VASQUEZ \n-GRUPO BOHEMIOS \n-CHEF CRISTIAN BRAVO \nDOMINGO 22 \n-GRUPO BOHEMIOS \n-SWING LATINO
URL:https://vivepelluhue.cl/evento/feria-copas-y-sabores/
LOCATION:Plaza de Pelluhue\, -35.8148695429173\, -72.57693180410716\, Chile
ATTACH;FMTTYPE=image/png:https://vivepelluhue.cl/wp-content/uploads/2025/06/10801350.png
END:VEVENT
END:VCALENDAR